BEGIN:VCALENDAR
VERSION:2.0
PRODID:-//TYPO3/NONSGML Calendarize//EN
BEGIN:VEVENT
UID:calendarize-gruener-tisch-details-folgen-20270407
DTSTAMP:20260419T133856Z
DTSTART:20270407T160000Z
DTEND:20270407T190000Z
SUMMARY:Grüner Tisch - Details folgen
DESCRIPTION:Der Grüne Tisch von Fraktion\, FGL\, OV Konstanz und der Grü
 nen Jugend behandelt wechselnd aktuelle gesellschaftliche Themen. Er finde
 t meist am ersten Mittwoch jedes Monats statt. Mit der Konkretisierung ein
 es Termins wird dieser Kalendeeintrag aktualisiert.
X-ALT-DESC;FMTTYPE=text/html:Der Grüne Tisch von Fraktion\, FGL\, OV Kons
 tanz und der Grünen Jugend behandelt wechselnd aktuelle gesellschaftliche
  Themen. Er findet meist am ersten Mittwoch jedes Monats statt. Mit der Ko
 nkretisierung eines Termins wird dieser Kalendeeintrag aktualisiert.
LOCATION:wechselnder Ort
END:VEVENT
END:VCALENDAR
